BEGIN:VCALENDAR
VERSION:2.0
PRODID:-//Greener Kirkcaldy - ECPv6.15.14//NONSGML v1.0//EN
CALSCALE:GREGORIAN
METHOD:PUBLISH
X-ORIGINAL-URL:https://www.greenerkirkcaldy.org.uk
X-WR-CALDESC:Events for Greener Kirkcaldy
REFRESH-INTERVAL;VALUE=DURATION:PT1H
X-Robots-Tag:noindex
X-PUBLISHED-TTL:PT1H
BEGIN:VTIMEZONE
TZID:Europe/London
BEGIN:DAYLIGHT
TZOFFSETFROM:+0000
TZOFFSETTO:+0100
TZNAME:BST
DTSTART:20200329T010000
END:DAYLIGHT
BEGIN:STANDARD
TZOFFSETFROM:+0100
TZOFFSETTO:+0000
TZNAME:GMT
DTSTART:20201025T010000
END:STANDARD
BEGIN:DAYLIGHT
TZOFFSETFROM:+0000
TZOFFSETTO:+0100
TZNAME:BST
DTSTART:20210328T010000
END:DAYLIGHT
BEGIN:STANDARD
TZOFFSETFROM:+0100
TZOFFSETTO:+0000
TZNAME:GMT
DTSTART:20211031T010000
END:STANDARD
BEGIN:DAYLIGHT
TZOFFSETFROM:+0000
TZOFFSETTO:+0100
TZNAME:BST
DTSTART:20220327T010000
END:DAYLIGHT
BEGIN:STANDARD
TZOFFSETFROM:+0100
TZOFFSETTO:+0000
TZNAME:GMT
DTSTART:20221030T010000
END:STANDARD
END:VTIMEZONE
BEGIN:VEVENT
DTSTART;TZID=Europe/London:20211218T100000
DTEND;TZID=Europe/London:20211218T160000
DTSTAMP:20260424T082245
CREATED:20211108T103330Z
LAST-MODIFIED:20211125T102035Z
UID:10002313-1639821600-1639843200@www.greenerkirkcaldy.org.uk
SUMMARY:Dr Bike at Templehall Parish Church
DESCRIPTION:Book your cycle in for free checks and minor adjustments and repairs.  \nAt our Dr Bike sessions\, experienced mechanics check everything on your cycle; from wheels\, brakes\, gears and tyre pressure to lights\, racks\, pedals\, saddles and more. Any minor adjustments we can make\, we do there and then. This may include free replacement of minor wear and tear components where possible. \nFor more complicated repairs that we can’t fix on site\, we will let you know exactly what needs to be done and give you a rough idea of what it should cost at a bike shop.  \nA “Dr Bike health report” will be supplied to customers afterwards.  \nThis event will be conducted with social distancing measures and bike cleaning measures in place.  \nBooking Information \nThe event is free but booking is required – if your household has more than one bike that needs repairing\, please book more than one slot.  \nIf you are having trouble booking you can email info@greenerkirkcaldy.org.uk for assistance.
URL:https://www.greenerkirkcaldy.org.uk/event/dr-bike-at-templehall-parish-church/
LOCATION:Templehall Parish Church\, 20 Fair Isle Road\, Kirkcaldy\, Fife\, KY2 6ED\, United Kingdom
CATEGORIES:Travel
ATTACH;FMTTYPE=image/jpeg:https://www.greenerkirkcaldy.org.uk/wp-content/uploads/2021/11/20210904_111107-scaled.jpg
ORGANIZER;CN="Lang Toun Cycles":MAILTO:info@langtouncycles.org.uk
END:VEVENT
END:VCALENDAR