BEGIN:VCALENDAR
VERSION:2.0
PRODID:-//Greener Kirkcaldy - ECPv6.15.14//NONSGML v1.0//EN
CALSCALE:GREGORIAN
METHOD:PUBLISH
X-ORIGINAL-URL:https://www.greenerkirkcaldy.org.uk
X-WR-CALDESC:Events for Greener Kirkcaldy
REFRESH-INTERVAL;VALUE=DURATION:PT1H
X-Robots-Tag:noindex
X-PUBLISHED-TTL:PT1H
BEGIN:VTIMEZONE
TZID:Europe/London
BEGIN:DAYLIGHT
TZOFFSETFROM:+0000
TZOFFSETTO:+0100
TZNAME:BST
DTSTART:20170326T010000
END:DAYLIGHT
BEGIN:STANDARD
TZOFFSETFROM:+0100
TZOFFSETTO:+0000
TZNAME:GMT
DTSTART:20171029T010000
END:STANDARD
BEGIN:DAYLIGHT
TZOFFSETFROM:+0000
TZOFFSETTO:+0100
TZNAME:BST
DTSTART:20180325T010000
END:DAYLIGHT
BEGIN:STANDARD
TZOFFSETFROM:+0100
TZOFFSETTO:+0000
TZNAME:GMT
DTSTART:20181028T010000
END:STANDARD
BEGIN:DAYLIGHT
TZOFFSETFROM:+0000
TZOFFSETTO:+0100
TZNAME:BST
DTSTART:20190331T010000
END:DAYLIGHT
BEGIN:STANDARD
TZOFFSETFROM:+0100
TZOFFSETTO:+0000
TZNAME:GMT
DTSTART:20191027T010000
END:STANDARD
BEGIN:DAYLIGHT
TZOFFSETFROM:+0000
TZOFFSETTO:+0100
TZNAME:BST
DTSTART:20200329T010000
END:DAYLIGHT
BEGIN:STANDARD
TZOFFSETFROM:+0100
TZOFFSETTO:+0000
TZNAME:GMT
DTSTART:20201025T010000
END:STANDARD
BEGIN:DAYLIGHT
TZOFFSETFROM:+0000
TZOFFSETTO:+0100
TZNAME:BST
DTSTART:20210328T010000
END:DAYLIGHT
BEGIN:STANDARD
TZOFFSETFROM:+0100
TZOFFSETTO:+0000
TZNAME:GMT
DTSTART:20211031T010000
END:STANDARD
BEGIN:DAYLIGHT
TZOFFSETFROM:+0000
TZOFFSETTO:+0100
TZNAME:BST
DTSTART:20220327T010000
END:DAYLIGHT
BEGIN:STANDARD
TZOFFSETFROM:+0100
TZOFFSETTO:+0000
TZNAME:GMT
DTSTART:20221030T010000
END:STANDARD
BEGIN:DAYLIGHT
TZOFFSETFROM:+0000
TZOFFSETTO:+0100
TZNAME:BST
DTSTART:20230326T010000
END:DAYLIGHT
BEGIN:STANDARD
TZOFFSETFROM:+0100
TZOFFSETTO:+0000
TZNAME:GMT
DTSTART:20231029T010000
END:STANDARD
END:VTIMEZONE
BEGIN:VEVENT
DTSTART;TZID=Europe/London:20221102T143000
DTEND;TZID=Europe/London:20221102T180000
DTSTAMP:20260420T045817
CREATED:20221027T121558Z
LAST-MODIFIED:20221027T121558Z
UID:10002564-1667399400-1667412000@www.greenerkirkcaldy.org.uk
SUMMARY:Dr Bike - Templehall Community Centre
DESCRIPTION:Dr Bike will be at the Templehall Community Centre on Wednesday the 2nd of November from 2:30pm – 6pm as part of Fife Council’s ‘Making the Most of Your Money’ event. Bring your bike in for a free bike check and minor adjustments and repairs. \nAt Dr Bike sessions\, experienced mechanics check everything on your bike from wheels\, brakes\, gears and tyre pressure to lights\, racks\, pedals\, saddles and more. Any minor adjustments we can make to the bike\, we do there and then. This will include free replacement of brake cables and blocks where required. \nFor more complicated repairs that we can’t fix on site\, we will let you know exactly what needs to be done and give you a rough idea of what it should cost at a bike shop. \nA “Dr Bike health report” will be supplied to customers afterwards. \n  \n 
URL:https://www.greenerkirkcaldy.org.uk/event/dr-bike-templehall-community-centre/
LOCATION:Templehall Community Centre\, Beauly Place\, Kirkcaldy\, KY2 6EX\, United Kingdom
CATEGORIES:Community,Travel
ATTACH;FMTTYPE=image/jpeg:https://www.greenerkirkcaldy.org.uk/wp-content/uploads/2022/10/20220903_123454-scaled.jpg
ORGANIZER;CN="Lang Toun Cycles":MAILTO:info@langtouncycles.org.uk
END:VEVENT
BEGIN:VEVENT
DTSTART;TZID=Europe/London:20181003T183000
DTEND;TZID=Europe/London:20181003T203000
DTSTAMP:20260420T045817
CREATED:20190124T141811Z
LAST-MODIFIED:20190124T141811Z
UID:10001743-1538591400-1538598600@www.greenerkirkcaldy.org.uk
SUMMARY:Bike Maintenance Workshop
DESCRIPTION:Learn the skills to fix your bike yourself and never have to walk home with a puncture again. Dr Bike will teach you about the main parts and components on a bike\, how to undertake an “M Check” and check your bike is safe\, and how to undertake basic repairs and adjustments. \nRemember to bring your bike along so that you can learn how to do all of this on your own bike! \nBooking Information\nThe event is free but booking is required as spaces are limited. \nIf you have any problems booking\, or any questions\, please phone 01592 858458 or email info@greenerkirkcaldy.org.uk.
URL:https://www.greenerkirkcaldy.org.uk/event/bike-maintenance-workshop-6/
LOCATION:Templehall Community Centre\, Beauly Place\, Kirkcaldy\, KY2 6EX\, United Kingdom
CATEGORIES:Travel
ATTACH;FMTTYPE=image/jpeg:https://www.greenerkirkcaldy.org.uk/wp-content/uploads/2019/01/Bike-Repair-resized.jpg
ORGANIZER;CN="Greener Kirkcaldy":MAILTO:jackiea@greenerkirkcaldy.org.uk
END:VEVENT
END:VCALENDAR