BEGIN:VCALENDAR
VERSION:2.0
PRODID:-//Greener Kirkcaldy - ECPv6.15.14//NONSGML v1.0//EN
CALSCALE:GREGORIAN
METHOD:PUBLISH
X-ORIGINAL-URL:https://www.greenerkirkcaldy.org.uk
X-WR-CALDESC:Events for Greener Kirkcaldy
REFRESH-INTERVAL;VALUE=DURATION:PT1H
X-Robots-Tag:noindex
X-PUBLISHED-TTL:PT1H
BEGIN:VTIMEZONE
TZID:Europe/London
BEGIN:DAYLIGHT
TZOFFSETFROM:+0000
TZOFFSETTO:+0100
TZNAME:BST
DTSTART:20230326T010000
END:DAYLIGHT
BEGIN:STANDARD
TZOFFSETFROM:+0100
TZOFFSETTO:+0000
TZNAME:GMT
DTSTART:20231029T010000
END:STANDARD
BEGIN:DAYLIGHT
TZOFFSETFROM:+0000
TZOFFSETTO:+0100
TZNAME:BST
DTSTART:20240331T010000
END:DAYLIGHT
BEGIN:STANDARD
TZOFFSETFROM:+0100
TZOFFSETTO:+0000
TZNAME:GMT
DTSTART:20241027T010000
END:STANDARD
BEGIN:DAYLIGHT
TZOFFSETFROM:+0000
TZOFFSETTO:+0100
TZNAME:BST
DTSTART:20250330T010000
END:DAYLIGHT
BEGIN:STANDARD
TZOFFSETFROM:+0100
TZOFFSETTO:+0000
TZNAME:GMT
DTSTART:20251026T010000
END:STANDARD
END:VTIMEZONE
BEGIN:VEVENT
DTSTART;TZID=Europe/London:20241005T130000
DTEND;TZID=Europe/London:20241005T160000
DTSTAMP:20260423T015107
CREATED:20240830T091642Z
LAST-MODIFIED:20240923T153624Z
UID:10002718-1728133200-1728144000@www.greenerkirkcaldy.org.uk
SUMMARY:Fife Climate Festival Big Day Oot
DESCRIPTION:Following a fortnight of fantastic events\, Fife Climate Festival will finish with a Big Day Oot in Silverburn Park\, Leven. \nThere will be lots of activities and stalls\, with plenty of fun for all ages. \nHighlights include: \n\nNature walks\nStalls\nCycle ride\nBushcraft\nYoga\nStorytelling\nDr Bike – free bike health check\nArts and crafts\n\nThis is an open event and there is no need to book. You can buy food and drinks on-site from one of our food trucks or at The Cottage Window Cafe. \nFull details are on the Climate Action Fife website. \n 
URL:https://www.greenerkirkcaldy.org.uk/event/fife-climate-festival-big-day-oot/
LOCATION:Silverburn Park\, Largo Road\, Lundin Links\, KY8 5PU
CATEGORIES:Climate Action,Fife Climate Festival
ATTACH;FMTTYPE=image/png:https://www.greenerkirkcaldy.org.uk/wp-content/uploads/2024/08/Screenshot-2024-08-30-102233.png
END:VEVENT
END:VCALENDAR