BEGIN:VCALENDAR
VERSION:2.0
PRODID:-//Greener Kirkcaldy - ECPv6.15.14//NONSGML v1.0//EN
CALSCALE:GREGORIAN
METHOD:PUBLISH
X-ORIGINAL-URL:https://www.greenerkirkcaldy.org.uk
X-WR-CALDESC:Events for Greener Kirkcaldy
REFRESH-INTERVAL;VALUE=DURATION:PT1H
X-Robots-Tag:noindex
X-PUBLISHED-TTL:PT1H
BEGIN:VTIMEZONE
TZID:Europe/London
BEGIN:DAYLIGHT
TZOFFSETFROM:+0000
TZOFFSETTO:+0100
TZNAME:BST
DTSTART:20220327T010000
END:DAYLIGHT
BEGIN:STANDARD
TZOFFSETFROM:+0100
TZOFFSETTO:+0000
TZNAME:GMT
DTSTART:20221030T010000
END:STANDARD
BEGIN:DAYLIGHT
TZOFFSETFROM:+0000
TZOFFSETTO:+0100
TZNAME:BST
DTSTART:20230326T010000
END:DAYLIGHT
BEGIN:STANDARD
TZOFFSETFROM:+0100
TZOFFSETTO:+0000
TZNAME:GMT
DTSTART:20231029T010000
END:STANDARD
BEGIN:DAYLIGHT
TZOFFSETFROM:+0000
TZOFFSETTO:+0100
TZNAME:BST
DTSTART:20240331T010000
END:DAYLIGHT
BEGIN:STANDARD
TZOFFSETFROM:+0100
TZOFFSETTO:+0000
TZNAME:GMT
DTSTART:20241027T010000
END:STANDARD
BEGIN:DAYLIGHT
TZOFFSETFROM:+0000
TZOFFSETTO:+0100
TZNAME:BST
DTSTART:20250330T010000
END:DAYLIGHT
BEGIN:STANDARD
TZOFFSETFROM:+0100
TZOFFSETTO:+0000
TZNAME:GMT
DTSTART:20251026T010000
END:STANDARD
BEGIN:DAYLIGHT
TZOFFSETFROM:+0000
TZOFFSETTO:+0100
TZNAME:BST
DTSTART:20260329T010000
END:DAYLIGHT
BEGIN:STANDARD
TZOFFSETFROM:+0100
TZOFFSETTO:+0000
TZNAME:GMT
DTSTART:20261025T010000
END:STANDARD
END:VTIMEZONE
BEGIN:VEVENT
DTSTART;TZID=Europe/London:20251028T183000
DTEND;TZID=Europe/London:20251028T203000
DTSTAMP:20260424T104507
CREATED:20251002T082735Z
LAST-MODIFIED:20251002T082735Z
UID:10003690-1761676200-1761683400@www.greenerkirkcaldy.org.uk
SUMMARY:Film screening: Together We Grow
DESCRIPTION:Join us for a film screening and chat in our community building as part of the Community Land Festival. \nWe are screening Together We Grow by Happen Films. The film follows a community organisation based in New Zealand called Common Unity. Despite being on the other side of the world their values and work reflect what we are trying to do right here in Kirkcaldy and can inspire us in future projects. \nAfter the screening there will be time for discussion and chat about the themes of the films. \nWe will be providing light snacks and refreshments. \nAbout the film \nWhat do you get when you combine a community cafe\, a community grocer and a community bike works? Plus a repair cafe\, a sewing workshop\, garden sharing\, and a honey-making enterprise? \nCommon Unity! A truly wonderful example of the importance of the community in tackling issues like social isolation and food insecurity. And in building the social connections and social relationships so important to health and life. \nIn Together We Grow we get to know a group of community members doing the important work of caring for others and building community resilience. It’s a community hub of learning\, support\, creativity\, joy\, sharing and shared interest\, all in one place. \nBooking Information\nThe event is free but booking is required. You can choose to purchase a ticket with a donation. Donations help us do more work in our community. \nOur booking form includes a series of optional anonymous questions. These help us learn more about the people we reach through our events. Any information you choose to share about your background is managed separately to information that you give us to process your booking (for example\, your name). \nIf you are having trouble booking you can call 01592 858458 or email info@greenerkirkcaldy.org.uk for assistance. \nAccessibility\nThere are accessible parking bays available outside 8 East Fergus Place. There is a ramp into the building and level access throughout. There is also an accessible toilet. Learn more about how to get to us and the accessibility of the building. \nIf you have any other accessibility questions please phone 01592 858458 or email info@greenerkirkcaldy.org.uk.
URL:https://www.greenerkirkcaldy.org.uk/event/film-screening-together-we-grow/
LOCATION:Meet at Greener Kirkcaldy\, 8 East Fergus Place\, 8 East Fergus Place\, Kirkcaldy\, Fife\, KY1 1XT\, United Kingdom
CATEGORIES:Climate Action,Community
ATTACH;FMTTYPE=image/jpeg:https://www.greenerkirkcaldy.org.uk/wp-content/uploads/2025/10/The-Remakery-Sign-scaled.jpg
ORGANIZER;CN="Greener Kirkcaldy":MAILTO:jackiea@greenerkirkcaldy.org.uk
END:VEVENT
BEGIN:VEVENT
DTSTART;TZID=Europe/London:20230415T110000
DTEND;TZID=Europe/London:20230415T120000
DTSTAMP:20260424T104507
CREATED:20230302T113317Z
LAST-MODIFIED:20230411T154457Z
UID:10002592-1681556400-1681560000@www.greenerkirkcaldy.org.uk
SUMMARY:Beveridge Park walk
DESCRIPTION:Join Greener Kirkcaldy for a short walk to Beveridge Park to help us celebrate the launch of our new project Bike\, Walk\, Move. \nThe walk will start at our community building. We will then make our way towards Beveridge Park at a leisurely pace. When we arrive at the park\, we will do a loop around the lake before heading back. \nAs the route is flat\, sticking to pavements and footpaths\, it is suitable for pushchairs and wheelchairs. \nWe will walk for around 2 miles\, which will take around 45 minutes to complete. \nPlease get in touch if you require any more information about the route. \nAdditional Information\nPlease note that this walk is weather-dependent. \nParticipants should be able to walk 2 miles at a leisurely pace. \nBooking Instructions\nThe event is free\, booking is recommended. Spaces will be available on a first come first served basis on the day too. \nIf you are having trouble booking\, you can call 01592 858458 or email info@greenerkirkcaldy.org.uk for assistance.
URL:https://www.greenerkirkcaldy.org.uk/event/beveridge-park-walk/
LOCATION:Meet at Greener Kirkcaldy\, 8 East Fergus Place\, 8 East Fergus Place\, Kirkcaldy\, Fife\, KY1 1XT\, United Kingdom
CATEGORIES:Community,Travel
ATTACH;FMTTYPE=image/jpeg:https://www.greenerkirkcaldy.org.uk/wp-content/uploads/2023/03/Beveridge-Park-Walk-scaled.jpg
ORGANIZER;CN="Greener Kirkcaldy":MAILTO:jackiea@greenerkirkcaldy.org.uk
END:VEVENT
BEGIN:VEVENT
DTSTART;TZID=Europe/London:20230415T103000
DTEND;TZID=Europe/London:20230415T113000
DTSTAMP:20260424T104507
CREATED:20230302T121346Z
LAST-MODIFIED:20230411T154408Z
UID:10002593-1681554600-1681558200@www.greenerkirkcaldy.org.uk
SUMMARY:Easter Bunny bike ride
DESCRIPTION:Come along to our ‘Bunny Bike Ride’ with a fun Easter Theme. Ideal for the whole family.\nThis ride is part of a larger event to celebrate our new project\, Bike\, Walk\, Move. Find out what else is happening on the day on our events page. \n\nDistance – short\nHills – mainly flat\, one hill\nSurfaces – mainly smooth\, including some good quality paths\nRoute – mixture of traffic-free paths and quiet roads\n\nAll of our rides are ideal for people looking to discover useful routes around Kirkcaldy and surrounding areas\, whilst providing the opportunity to build up your confidence cycling. \nAdditional Information\nPlease note that this bike ride is weather-dependent. \nParticipants should be able to cycle for 1hr at a leisurely pace. \nPlease make sure your bike is roadworthy before coming and wear appropriate clothes for the weather. Remember also to bring your own water and snacks. E-bikes are welcomed as well. \nBooking Instructions\nThe event is free\, booking is recommended. Spaces will be available on a first come first served basis on the day too. Just remember to bring your bike! (on request adult bikes can be borrowed from us). \nIf you are having trouble booking\, you can call 01592 858458 or email info@greenerkirkcaldy.org.uk for assistance.
URL:https://www.greenerkirkcaldy.org.uk/event/easter-bunny-bike-ride/
LOCATION:Meet at Greener Kirkcaldy\, 8 East Fergus Place\, 8 East Fergus Place\, Kirkcaldy\, Fife\, KY1 1XT\, United Kingdom
CATEGORIES:Travel
ATTACH;FMTTYPE=image/jpeg:https://www.greenerkirkcaldy.org.uk/wp-content/uploads/2023/03/Easter-Bunny-Ride.jpg
ORGANIZER;CN="Greener Kirkcaldy":MAILTO:jackiea@greenerkirkcaldy.org.uk
END:VEVENT
END:VCALENDAR