BEGIN:VCALENDAR
VERSION:2.0
PRODID:-//Greener Kirkcaldy - ECPv6.15.14//NONSGML v1.0//EN
CALSCALE:GREGORIAN
METHOD:PUBLISH
X-WR-CALNAME:Greener Kirkcaldy
X-ORIGINAL-URL:https://www.greenerkirkcaldy.org.uk
X-WR-CALDESC:Events for Greener Kirkcaldy
REFRESH-INTERVAL;VALUE=DURATION:PT1H
X-Robots-Tag:noindex
X-PUBLISHED-TTL:PT1H
BEGIN:VTIMEZONE
TZID:Europe/London
BEGIN:DAYLIGHT
TZOFFSETFROM:+0000
TZOFFSETTO:+0100
TZNAME:BST
DTSTART:20240331T010000
END:DAYLIGHT
BEGIN:STANDARD
TZOFFSETFROM:+0100
TZOFFSETTO:+0000
TZNAME:GMT
DTSTART:20241027T010000
END:STANDARD
BEGIN:DAYLIGHT
TZOFFSETFROM:+0000
TZOFFSETTO:+0100
TZNAME:BST
DTSTART:20250330T010000
END:DAYLIGHT
BEGIN:STANDARD
TZOFFSETFROM:+0100
TZOFFSETTO:+0000
TZNAME:GMT
DTSTART:20251026T010000
END:STANDARD
BEGIN:DAYLIGHT
TZOFFSETFROM:+0000
TZOFFSETTO:+0100
TZNAME:BST
DTSTART:20260329T010000
END:DAYLIGHT
BEGIN:STANDARD
TZOFFSETFROM:+0100
TZOFFSETTO:+0000
TZNAME:GMT
DTSTART:20261025T010000
END:STANDARD
END:VTIMEZONE
BEGIN:VEVENT
DTSTART;TZID=Europe/London:20250315T100000
DTEND;TZID=Europe/London:20250315T140000
DTSTAMP:20260419T170330
CREATED:20250129T103847Z
LAST-MODIFIED:20250203T165634Z
UID:10002755-1742032800-1742047200@www.greenerkirkcaldy.org.uk
SUMMARY:E-bike demo day - Aberdour
DESCRIPTION:Come along and try out the latest e-bikes from our Fife Easy EBike fleet at Lang Toun Cycles. \nWe will be on hand to take you on a short ride on the flat\, grass\, gravel and hills to show what these bikes are capable of.   \nWe will look at the benefits of electronically assisted bikes for local travel\, shopping and exploring locally. An e-bike will add power\, helping you go further faster\, giving you more consistent journey times and making hills easy!  \n There will be time to chat about all things e-bike and to try different bikes to see what works for you.  \nNo booking is required – just drop in anytime from 10am – 2pm to have a go. \nThis ride is suitable for people who are already confident bike riders but feel they would like to try out an e-bike.  \n Accessibility Information\nThere are no adaptive e-bikes available at this event. Accessible parking is available at the Silver Sands Car Park. The event location is a 10 – 15 minute walk from Aberdour Rail Station and the Morayvale stop on the 7 bus route.
URL:https://www.greenerkirkcaldy.org.uk/event/e-bike-demo-day-aberdour/
LOCATION:Aberdour Silver Sands Carpark\, Silver Sands Car Park\, Aberdour\, Fife\, KY3 0TZ
CATEGORIES:Travel
ATTACH;FMTTYPE=image/jpeg:https://www.greenerkirkcaldy.org.uk/wp-content/uploads/2024/02/PXL_20231111_141752572.jpg
ORGANIZER;CN="Greener Kirkcaldy":MAILTO:jackiea@greenerkirkcaldy.org.uk
END:VEVENT
END:VCALENDAR