BEGIN:VCALENDAR
VERSION:2.0
PRODID:-//Greener Kirkcaldy - ECPv6.15.14//NONSGML v1.0//EN
CALSCALE:GREGORIAN
METHOD:PUBLISH
X-WR-CALNAME:Greener Kirkcaldy
X-ORIGINAL-URL:https://www.greenerkirkcaldy.org.uk
X-WR-CALDESC:Events for Greener Kirkcaldy
REFRESH-INTERVAL;VALUE=DURATION:PT1H
X-Robots-Tag:noindex
X-PUBLISHED-TTL:PT1H
BEGIN:VTIMEZONE
TZID:Europe/London
BEGIN:DAYLIGHT
TZOFFSETFROM:+0000
TZOFFSETTO:+0100
TZNAME:BST
DTSTART:20180325T010000
END:DAYLIGHT
BEGIN:STANDARD
TZOFFSETFROM:+0100
TZOFFSETTO:+0000
TZNAME:GMT
DTSTART:20181028T010000
END:STANDARD
BEGIN:DAYLIGHT
TZOFFSETFROM:+0000
TZOFFSETTO:+0100
TZNAME:BST
DTSTART:20190331T010000
END:DAYLIGHT
BEGIN:STANDARD
TZOFFSETFROM:+0100
TZOFFSETTO:+0000
TZNAME:GMT
DTSTART:20191027T010000
END:STANDARD
BEGIN:DAYLIGHT
TZOFFSETFROM:+0000
TZOFFSETTO:+0100
TZNAME:BST
DTSTART:20200329T010000
END:DAYLIGHT
BEGIN:STANDARD
TZOFFSETFROM:+0100
TZOFFSETTO:+0000
TZNAME:GMT
DTSTART:20201025T010000
END:STANDARD
END:VTIMEZONE
BEGIN:VEVENT
DTSTART;TZID=Europe/London:20190501T140000
DTEND;TZID=Europe/London:20190501T180000
DTSTAMP:20260422T092753
CREATED:20190412T121650Z
LAST-MODIFIED:20201117T140857Z
UID:10001569-1556719200-1556733600@www.greenerkirkcaldy.org.uk
SUMMARY:Greener Kirkcaldy Community Open Day
DESCRIPTION:Join us to celebrate the launch of our new building and The Lang Spoon Community Kitchen – a place for people to come together to cook\, eat and learn. \nCome and look round our new community building\, which includes two community kitchens\, an events space\, a kitchen garden\, a new distribution point for Kirkcaldy Foodbank\, and is the base of our Cosy Kingdom energy advice team\, free bike borrowing scheme (which includes 6 electric bikes!) and new Community Fridge. \nWe’ll have tours of our kitchens and soft drinks and nibbles. We’ll also be joined by a very special guest to help us celebrate our launch – Jamie Scott\, Head Chef and Patron of The Newport Restaurant\, and BBC Professional MasterChef winner from Fife. Jamie will be doing some demos\, cooking up some local food to taste with tips on how to reduce food waste. \n2.30pm – 3.15pm – demo by Chef Jamie Scott\n3.45pm – 4.30pm – demo by Chef Jamie Scott \nYou’ll also be able to find out more about our exciting new programme of activities! \nThere is limited disabled parking on site and we are a 5 minute walk from both Kirkcaldy Bus Station and Train Station.
URL:https://www.greenerkirkcaldy.org.uk/event/greener-kirkcaldy-community-open-day/
LOCATION:Greener Kirkcaldy\, 8 East Fergus Place\, Kirkcaldy\, Fife\, KY1 1XT\, United Kingdom
CATEGORIES:Community,Energy Advice,Food & Growing,Reuse & Repair,Travel
ATTACH;FMTTYPE=image/jpeg:https://www.greenerkirkcaldy.org.uk/wp-content/uploads/2019/03/20190327_173123.jpg
ORGANIZER;CN="Greener Kirkcaldy":MAILTO:jackiea@greenerkirkcaldy.org.uk
END:VEVENT
BEGIN:VEVENT
DTSTART;TZID=Europe/London:20190426T100000
DTEND;TZID=Europe/London:20190426T144000
DTSTAMP:20260422T092753
CREATED:20190328T102211Z
LAST-MODIFIED:20190416T190024Z
UID:10001568-1556272800-1556289600@www.greenerkirkcaldy.org.uk
SUMMARY:April Fuel Efficient Driver Training
DESCRIPTION:No matter how well or efficiently you think you drive\, you can always pick up some useful tips in our FREE Fuel Efficient Driver Training (FEDT). Car technology has changed as well as road infrastructure so our training can help you drive more efficiently. In our last campaign we helped almost 100 people in our community save an average of 15% on their fuel consumption. \nFEDT is an informal training session that lasts 50 minutes and takes place with an Approved Trainer. Here is what our trainer James Coutts has to say about the course: “The first thing I always say is that it’s not a driving test (you’re not going to get a telling-off for crossing your hands on the steering wheel and you won’t be asked to perform an emergency stop!). The aim is to make the training very relaxed and enjoyable and the benefits are endless: participants can gain substantial savings by reducing fuel; less pollution from your car thus protecting the environment; and less wear and tear on tyres and brakes etc.” \nThe trainer provides the car\, fuel and insurance. You’ll complete a circuit twice\, once before training and again after training. Miles per gallon is measured for both circuits so you can work out how much you can save. \nPlease note – you must bring your valid driving license with you or you won’t be able to do the training. \n  \nBooking Information\n\nThis event is free\, but booking is required. If you are having trouble booking contact us on 01592 858458 or email info@greenerkirkcaldy.org.uk.
URL:https://www.greenerkirkcaldy.org.uk/event/april-fuel-efficient-driver-training/
LOCATION:Greener Kirkcaldy\, 8 East Fergus Place\, Kirkcaldy\, Fife\, KY1 1XT\, United Kingdom
CATEGORIES:Travel
ATTACH;FMTTYPE=image/jpeg:https://www.greenerkirkcaldy.org.uk/wp-content/uploads/2019/03/FEDT.jpg
ORGANIZER;CN="Greener Kirkcaldy":MAILTO:jackiea@greenerkirkcaldy.org.uk
END:VEVENT
END:VCALENDAR